Package: eiR Version: 1.47.1 Command: /Library/Frameworks/R.framework/Resources/bin/R CMD build --keep-empty-dirs --no-resave-data eiR StartedAt: 2025-02-20 16:35:13 -0500 (Thu, 20 Feb 2025) EndedAt: 2025-02-20 16:35:39 -0500 (Thu, 20 Feb 2025) EllapsedTime: 26.3 seconds RetCode: 0 Status: OK PackageFile: eiR_1.47.1.tar.gz PackageFileSize: 447.5 KiB