Package: eiR Version: 1.47.1 Command: rm -rf eiR.buildbin-libdir && mkdir eiR.buildbin-libdir && /Users/biocbuild/BBS/utils/build-universal.sh eiR_1.47.1.tar.gz /Library/Frameworks/R.framework/Resources/bin/R eiR.buildbin-libdir StartedAt: 2025-02-21 00:29:18 -0500 (Fri, 21 Feb 2025) EndedAt: 2025-02-21 00:29:33 -0500 (Fri, 21 Feb 2025) EllapsedTime: 15.1 seconds RetCode: 0 Status: OK PackageFile: eiR_1.47.1.tgz PackageFileSize: 566.5 KiB