Package: eds Version: 1.9.0 Command: /home/biocbuild/bbs-3.21-bioc/R/bin/R CMD INSTALL eds StartedAt: 2025-02-17 15:05:24 -0500 (Mon, 17 Feb 2025) EndedAt: 2025-02-17 15:05:35 -0500 (Mon, 17 Feb 2025) EllapsedTime: 11.4 seconds RetCode: 0 Status: OK