Package: eds Version: 1.9.0 Command: rm -rf eds.buildbin-libdir && mkdir eds.buildbin-libdir && /Users/biocbuild/BBS/utils/build-universal.sh eds_1.9.0.tar.gz /Library/Frameworks/R.framework/Resources/bin/R eds.buildbin-libdir StartedAt: 2025-02-17 22:16:17 -0500 (Mon, 17 Feb 2025) EndedAt: 2025-02-17 22:16:23 -0500 (Mon, 17 Feb 2025) EllapsedTime: 5.1 seconds RetCode: 0 Status: OK PackageFile: eds_1.9.0.tgz PackageFileSize: 257 KiB