Package: edgeR Version: 4.5.2 Command: /home/biocbuild/bbs-3.21-bioc/R/bin/R CMD INSTALL edgeR StartedAt: 2025-02-18 15:01:59 -0500 (Tue, 18 Feb 2025) EndedAt: 2025-02-18 15:02:15 -0500 (Tue, 18 Feb 2025) EllapsedTime: 15.6 seconds RetCode: 0 Status: OK