Package: edgeR Version: 4.5.2 Command: /home/biocbuild/bbs-3.21-bioc/R/bin/R CMD check --install=check:edgeR.install-out.txt --library=/home/biocbuild/bbs-3.21-bioc/R/site-library --timings edgeR_4.5.2.tar.gz StartedAt: 2025-02-19 21:55:01 -0500 (Wed, 19 Feb 2025) EndedAt: 2025-02-19 21:56:21 -0500 (Wed, 19 Feb 2025) EllapsedTime: 80.1 seconds RetCode: 0 Status: OK CheckDir: edgeR.Rcheck Warnings: 0