Package: edgeR Version: 4.5.2 Command: /Library/Frameworks/R.framework/Resources/bin/R CMD build --keep-empty-dirs --no-resave-data edgeR StartedAt: 2025-02-19 16:35:31 -0500 (Wed, 19 Feb 2025) EndedAt: 2025-02-19 16:35:57 -0500 (Wed, 19 Feb 2025) EllapsedTime: 26.3 seconds RetCode: 0 Status: OK PackageFile: edgeR_4.5.2.tar.gz PackageFileSize: 3.281 MiB