Package: edgeR Version: 4.5.2 Command: rm -rf edgeR.buildbin-libdir && mkdir edgeR.buildbin-libdir && /Users/biocbuild/BBS/utils/build-universal.sh edgeR_4.5.2.tar.gz /Library/Frameworks/R.framework/Resources/bin/R edgeR.buildbin-libdir StartedAt: 2025-02-19 00:23:27 -0500 (Wed, 19 Feb 2025) EndedAt: 2025-02-19 00:23:50 -0500 (Wed, 19 Feb 2025) EllapsedTime: 22.9 seconds RetCode: 0 Status: OK PackageFile: edgeR_4.5.2.tgz PackageFileSize: 2.689 MiB