Package: edgeR Version: 4.5.2 Command: rm -rf edgeR.buildbin-libdir && mkdir edgeR.buildbin-libdir && /Users/biocbuild/BBS/utils/build-universal.sh edgeR_4.5.2.tar.gz /Library/Frameworks/R.framework/Resources/bin/R edgeR.buildbin-libdir StartedAt: 2025-02-18 22:20:28 -0500 (Tue, 18 Feb 2025) EndedAt: 2025-02-18 22:20:35 -0500 (Tue, 18 Feb 2025) EllapsedTime: 7.2 seconds RetCode: 0 Status: OK PackageFile: edgeR_4.5.2.tgz PackageFileSize: 2.689 MiB