Package: edge Version: 2.39.0 Command: chmod a+r edge -R && E:\biocbuild\bbs-3.21-bioc\R\bin\R.exe CMD build --keep-empty-dirs --no-resave-data edge StartedAt: 2025-02-19 18:31:34 -0500 (Wed, 19 Feb 2025) EndedAt: 2025-02-19 18:33:02 -0500 (Wed, 19 Feb 2025) EllapsedTime: 87.4 seconds RetCode: 0 Status: OK PackageFile: edge_2.39.0.tar.gz PackageFileSize: 999.3 KiB