Package: edge Version: 2.39.0 Command: rm -rf edge.buildbin-libdir && mkdir edge.buildbin-libdir && E:\biocbuild\bbs-3.21-bioc\R\bin\R.exe CMD INSTALL --build --library=edge.buildbin-libdir edge_2.39.0.tar.gz StartedAt: 2025-02-20 07:43:16 -0500 (Thu, 20 Feb 2025) EndedAt: 2025-02-20 07:44:37 -0500 (Thu, 20 Feb 2025) EllapsedTime: 80.7 seconds RetCode: 0 Status: OK PackageFile: edge_2.39.0.zip PackageFileSize: 1.58 MiB