Package: edge Version: 2.39.0 Command: /home/biocbuild/bbs-3.21-bioc/R/bin/R CMD INSTALL edge StartedAt: 2025-02-17 15:26:52 -0500 (Mon, 17 Feb 2025) EndedAt: 2025-02-17 15:27:16 -0500 (Mon, 17 Feb 2025) EllapsedTime: 23.6 seconds RetCode: 0 Status: OK