Package: edge Version: 2.39.0 Command: /home/biocbuild/bbs-3.21-bioc/R/bin/R CMD build --keep-empty-dirs --no-resave-data edge StartedAt: 2025-02-17 17:04:12 -0500 (Mon, 17 Feb 2025) EndedAt: 2025-02-17 17:05:05 -0500 (Mon, 17 Feb 2025) EllapsedTime: 52.1 seconds RetCode: 0 Status: OK PackageFile: edge_2.39.0.tar.gz PackageFileSize: 1006 KiB