Package: edge Version: 2.39.0 Maintainer: John D. Storey , Andrew J. Bass MaintainerEmail: ajbass at emory.edu git_url: https://git.bioconductor.org/packages/edge git_branch: devel git_last_commit: b391071 git_last_commit_date: 2024-10-29 10:01:14 -0500 (Tue, 29 Oct 2024)