Package: easyreporting Version: 1.19.0 Command: E:\biocbuild\bbs-3.21-bioc\R\bin\R.exe CMD check --no-multiarch --install=check:easyreporting.install-out.txt --library=E:\biocbuild\bbs-3.21-bioc\R\library --no-vignettes --timings easyreporting_1.19.0.tar.gz StartedAt: 2025-02-21 00:55:40 -0500 (Fri, 21 Feb 2025) EndedAt: 2025-02-21 00:56:17 -0500 (Fri, 21 Feb 2025) EllapsedTime: 37.0 seconds RetCode: 0 Status: OK CheckDir: easyreporting.Rcheck Warnings: 0