Package: easyreporting Version: 1.19.0 Command: rm -rf easyreporting.buildbin-libdir && mkdir easyreporting.buildbin-libdir && E:\biocbuild\bbs-3.21-bioc\R\bin\R.exe CMD INSTALL --build --library=easyreporting.buildbin-libdir easyreporting_1.19.0.tar.gz StartedAt: 2025-02-21 08:00:50 -0500 (Fri, 21 Feb 2025) EndedAt: 2025-02-21 08:02:46 -0500 (Fri, 21 Feb 2025) EllapsedTime: 115.9 seconds RetCode: 0 Status: OK PackageFile: easyreporting_1.19.0.zip PackageFileSize: 3.117 MiB