Package: easyreporting Version: 1.19.0 Command: /home/biocbuild/bbs-3.21-bioc/R/bin/R CMD INSTALL easyreporting StartedAt: 2025-02-20 15:12:15 -0500 (Thu, 20 Feb 2025) EndedAt: 2025-02-20 15:12:18 -0500 (Thu, 20 Feb 2025) EllapsedTime: 3.1 seconds RetCode: 0 Status: OK