Package: easyreporting Version: 1.19.0 Command: /home/biocbuild/bbs-3.21-bioc/R/bin/R CMD check --install=check:easyreporting.install-out.txt --library=/home/biocbuild/bbs-3.21-bioc/R/site-library --timings easyreporting_1.19.0.tar.gz StartedAt: 2025-02-20 21:45:03 -0500 (Thu, 20 Feb 2025) EndedAt: 2025-02-20 21:45:31 -0500 (Thu, 20 Feb 2025) EllapsedTime: 28.1 seconds RetCode: 0 Status: OK CheckDir: easyreporting.Rcheck Warnings: 0