Package: easyreporting Version: 1.19.0 Command: rm -rf easyreporting.buildbin-libdir && mkdir easyreporting.buildbin-libdir && /Users/biocbuild/BBS/utils/build-universal.sh easyreporting_1.19.0.tar.gz /Library/Frameworks/R.framework/Resources/bin/R easyreporting.buildbin-libdir StartedAt: 2025-02-21 00:29:05 -0500 (Fri, 21 Feb 2025) EndedAt: 2025-02-21 00:29:13 -0500 (Fri, 21 Feb 2025) EllapsedTime: 8.2 seconds RetCode: 0 Status: OK PackageFile: easyreporting_1.19.0.tgz PackageFileSize: 3.11 MiB