Package: easyreporting Version: 1.19.0 Command: /Library/Frameworks/R.framework/Resources/bin/R CMD check --install=check:easyreporting.install-out.txt --library=/Library/Frameworks/R.framework/Resources/library --no-vignettes --timings easyreporting_1.19.0.tar.gz StartedAt: 2025-02-20 19:05:51 -0500 (Thu, 20 Feb 2025) EndedAt: 2025-02-20 19:06:06 -0500 (Thu, 20 Feb 2025) EllapsedTime: 15.2 seconds RetCode: 0 Status: OK CheckDir: easyreporting.Rcheck Warnings: 0