Package: easylift Version: 1.5.0 Command: chmod a+r easylift -R && E:\biocbuild\bbs-3.21-bioc\R\bin\R.exe CMD build --keep-empty-dirs --no-resave-data easylift StartedAt: 2025-02-20 18:31:56 -0500 (Thu, 20 Feb 2025) EndedAt: 2025-02-20 18:33:01 -0500 (Thu, 20 Feb 2025) EllapsedTime: 65.2 seconds RetCode: 0 Status: OK PackageFile: easylift_1.5.0.tar.gz PackageFileSize: 673.7 KiB