Package: easylift Version: 1.5.0 Command: /Library/Frameworks/R.framework/Resources/bin/R CMD build --keep-empty-dirs --no-resave-data easylift StartedAt: 2025-02-20 16:34:15 -0500 (Thu, 20 Feb 2025) EndedAt: 2025-02-20 16:35:05 -0500 (Thu, 20 Feb 2025) EllapsedTime: 49.1 seconds RetCode: 0 Status: OK PackageFile: easylift_1.5.0.tar.gz PackageFileSize: 673.5 KiB