Package: easylift Version: 1.5.0 Command: /Library/Frameworks/R.framework/Resources/bin/R CMD INSTALL easylift StartedAt: 2025-02-20 15:09:06 -0500 (Thu, 20 Feb 2025) EndedAt: 2025-02-20 15:09:19 -0500 (Thu, 20 Feb 2025) EllapsedTime: 13.4 seconds RetCode: 0 Status: OK