Package: easyRNASeq Version: 2.43.0 Command: E:\biocbuild\bbs-3.21-bioc\R\bin\R.exe CMD INSTALL easyRNASeq StartedAt: 2025-02-19 16:01:41 -0500 (Wed, 19 Feb 2025) EndedAt: 2025-02-19 16:03:23 -0500 (Wed, 19 Feb 2025) EllapsedTime: 102.1 seconds RetCode: 0 Status: OK