Package: easyRNASeq Version: 2.43.0 Command: /Library/Frameworks/R.framework/Resources/bin/R CMD check --install=check:easyRNASeq.install-out.txt --library=/Library/Frameworks/R.framework/Resources/library --no-vignettes --timings easyRNASeq_2.43.0.tar.gz StartedAt: 2025-02-19 20:12:02 -0500 (Wed, 19 Feb 2025) EndedAt: 2025-02-19 20:22:40 -0500 (Wed, 19 Feb 2025) EllapsedTime: 638.3 seconds RetCode: 0 Status: WARNINGS CheckDir: easyRNASeq.Rcheck Warnings: 1