Package: easyRNASeq Version: 2.43.0 Command: rm -rf easyRNASeq.buildbin-libdir && mkdir easyRNASeq.buildbin-libdir && /Users/biocbuild/BBS/utils/build-universal.sh easyRNASeq_2.43.0.tar.gz /Library/Frameworks/R.framework/Resources/bin/R easyRNASeq.buildbin-libdir StartedAt: 2025-02-20 00:30:24 -0500 (Thu, 20 Feb 2025) EndedAt: 2025-02-20 00:31:33 -0500 (Thu, 20 Feb 2025) EllapsedTime: 69.2 seconds RetCode: 0 Status: OK PackageFile: easyRNASeq_2.43.0.tgz PackageFileSize: 24.07 MiB