Package: easyRNASeq Version: 2.43.0 Command: /Library/Frameworks/R.framework/Resources/bin/R CMD build --keep-empty-dirs --no-resave-data easyRNASeq StartedAt: 2025-02-19 16:13:29 -0500 (Wed, 19 Feb 2025) EndedAt: 2025-02-19 16:15:24 -0500 (Wed, 19 Feb 2025) EllapsedTime: 115.2 seconds RetCode: 0 Status: OK PackageFile: easyRNASeq_2.43.0.tar.gz PackageFileSize: 69.55 MiB