Package: easier Version: 1.13.0 Command: E:\biocbuild\bbs-3.21-bioc\R\bin\R.exe CMD INSTALL easier StartedAt: 2025-02-19 16:58:59 -0500 (Wed, 19 Feb 2025) EndedAt: 2025-02-19 16:59:44 -0500 (Wed, 19 Feb 2025) EllapsedTime: 44.8 seconds RetCode: 0 Status: OK