Package: easier Version: 1.13.0 Command: /home/biocbuild/bbs-3.21-bioc/R/bin/R CMD build --keep-empty-dirs --no-resave-data easier StartedAt: 2025-02-19 17:05:35 -0500 (Wed, 19 Feb 2025) EndedAt: 2025-02-19 17:10:27 -0500 (Wed, 19 Feb 2025) EllapsedTime: 292.4 seconds RetCode: 0 Status: OK PackageFile: easier_1.13.0.tar.gz PackageFileSize: 3.677 MiB