Package: easier Version: 1.13.0 Command: rm -rf easier.buildbin-libdir && mkdir easier.buildbin-libdir && /Users/biocbuild/BBS/utils/build-universal.sh easier_1.13.0.tar.gz /Library/Frameworks/R.framework/Resources/bin/R easier.buildbin-libdir StartedAt: 2025-02-20 00:30:22 -0500 (Thu, 20 Feb 2025) EndedAt: 2025-02-20 00:31:10 -0500 (Thu, 20 Feb 2025) EllapsedTime: 48.6 seconds RetCode: 0 Status: OK PackageFile: easier_1.13.0.tgz PackageFileSize: 2.887 MiB