Package: dyebias Version: 1.67.0 Command: /home/biocbuild/bbs-3.21-bioc/R/bin/R CMD INSTALL dyebias StartedAt: 2025-02-19 15:13:15 -0500 (Wed, 19 Feb 2025) EndedAt: 2025-02-19 15:13:19 -0500 (Wed, 19 Feb 2025) EllapsedTime: 3.8 seconds RetCode: 0 Status: OK