Package: dyebias Version: 1.67.0 Command: /Library/Frameworks/R.framework/Resources/bin/R CMD INSTALL dyebias StartedAt: 2025-02-19 15:07:49 -0500 (Wed, 19 Feb 2025) EndedAt: 2025-02-19 15:08:12 -0500 (Wed, 19 Feb 2025) EllapsedTime: 23.5 seconds RetCode: 0 Status: OK