Package: dyebias Version: 1.67.0 Command: rm -rf dyebias.buildbin-libdir && mkdir dyebias.buildbin-libdir && /Users/biocbuild/BBS/utils/build-universal.sh dyebias_1.67.0.tar.gz /Library/Frameworks/R.framework/Resources/bin/R dyebias.buildbin-libdir StartedAt: 2025-02-20 00:30:16 -0500 (Thu, 20 Feb 2025) EndedAt: 2025-02-20 00:30:24 -0500 (Thu, 20 Feb 2025) EllapsedTime: 8.0 seconds RetCode: 0 Status: OK PackageFile: dyebias_1.67.0.tgz PackageFileSize: 2.291 MiB