Package: dupRadar Version: 1.37.0 Command: /Library/Frameworks/R.framework/Resources/bin/R CMD INSTALL dupRadar StartedAt: 2025-02-18 15:02:29 -0500 (Tue, 18 Feb 2025) EndedAt: 2025-02-18 15:02:38 -0500 (Tue, 18 Feb 2025) EllapsedTime: 8.2 seconds RetCode: 0 Status: OK