Package: drugTargetInteractions Version: 1.15.0 Command: /Library/Frameworks/R.framework/Resources/bin/R CMD check --install=check:drugTargetInteractions.install-out.txt --library=/Library/Frameworks/R.framework/Resources/library --no-vignettes --timings drugTargetInteractions_1.15.0.tar.gz StartedAt: 2025-02-20 20:09:58 -0500 (Thu, 20 Feb 2025) EndedAt: 2025-02-20 20:15:39 -0500 (Thu, 20 Feb 2025) EllapsedTime: 340.4 seconds RetCode: 0 Status: OK CheckDir: drugTargetInteractions.Rcheck Warnings: 0