Package: drugTargetInteractions Version: 1.15.0 Command: /Library/Frameworks/R.framework/Resources/bin/R CMD build --keep-empty-dirs --no-resave-data drugTargetInteractions StartedAt: 2025-02-20 16:33:54 -0500 (Thu, 20 Feb 2025) EndedAt: 2025-02-20 16:35:48 -0500 (Thu, 20 Feb 2025) EllapsedTime: 114.5 seconds RetCode: 0 Status: OK PackageFile: drugTargetInteractions_1.15.0.tar.gz PackageFileSize: 958.6 KiB