Package: drugTargetInteractions Version: 1.15.0 Command: /home/biocbuild/R/R/bin/R CMD build --keep-empty-dirs --no-resave-data drugTargetInteractions StartedAt: 2025-01-28 22:36:13 -0000 (Tue, 28 Jan 2025) EndedAt: 2025-01-28 22:38:30 -0000 (Tue, 28 Jan 2025) EllapsedTime: 137.1 seconds RetCode: 0 Status: OK PackageFile: drugTargetInteractions_1.15.0.tar.gz PackageFileSize: 1.03 MiB