Package: dreamlet Version: 1.5.0 Command: /home/biocbuild/bbs-3.21-bioc/R/bin/R CMD INSTALL dreamlet StartedAt: 2025-02-20 16:11:18 -0500 (Thu, 20 Feb 2025) EndedAt: 2025-02-20 16:11:19 -0500 (Thu, 20 Feb 2025) EllapsedTime: 1.1 seconds RetCode: 1 Status: ERROR