############################################################################## ############################################################################## ### ### Running command: ### ### /home/biocbuild/bbs-3.21-bioc/R/bin/R CMD build --keep-empty-dirs --no-resave-data dreamlet ### ############################################################################## ############################################################################## * checking for file ‘dreamlet/DESCRIPTION’ ... OK * preparing ‘dreamlet’: * checking DESCRIPTION meta-information ... OK * cleaning src * installing the package to process help pages ----------------------------------- ERROR: dependency ‘zenith’ is not available for package ‘dreamlet’ Perhaps try a variation of: install.packages('zenith') * removing ‘/tmp/Rtmp0WcNIf/Rinst14c6f4304cbf01/dreamlet’ ----------------------------------- ERROR: package installation failed