Package: drawProteins Version: 1.27.0 Command: E:\biocbuild\bbs-3.21-bioc\R\bin\R.exe CMD INSTALL drawProteins StartedAt: 2025-02-20 15:29:14 -0500 (Thu, 20 Feb 2025) EndedAt: 2025-02-20 15:29:39 -0500 (Thu, 20 Feb 2025) EllapsedTime: 25.7 seconds RetCode: 0 Status: OK