Package: drawProteins Version: 1.27.0 Command: rm -rf drawProteins.buildbin-libdir && mkdir drawProteins.buildbin-libdir && E:\biocbuild\bbs-3.21-bioc\R\bin\R.exe CMD INSTALL --build --library=drawProteins.buildbin-libdir drawProteins_1.27.0.tar.gz StartedAt: 2025-02-21 08:00:09 -0500 (Fri, 21 Feb 2025) EndedAt: 2025-02-21 08:00:28 -0500 (Fri, 21 Feb 2025) EllapsedTime: 18.9 seconds RetCode: 0 Status: OK PackageFile: drawProteins_1.27.0.zip PackageFileSize: 856.8 KiB