Package: drawProteins Version: 1.27.0 Command: /home/biocbuild/bbs-3.21-bioc/R/bin/R CMD INSTALL drawProteins StartedAt: 2025-02-19 15:09:31 -0500 (Wed, 19 Feb 2025) EndedAt: 2025-02-19 15:09:35 -0500 (Wed, 19 Feb 2025) EllapsedTime: 4.7 seconds RetCode: 0 Status: OK