Package: doubletrouble Version: 1.7.0 Command: rm -rf doubletrouble.buildbin-libdir && mkdir doubletrouble.buildbin-libdir && E:\biocbuild\bbs-3.21-bioc\R\bin\R.exe CMD INSTALL --build --library=doubletrouble.buildbin-libdir doubletrouble_1.7.0.tar.gz StartedAt: 2025-02-21 08:00:06 -0500 (Fri, 21 Feb 2025) EndedAt: 2025-02-21 08:01:12 -0500 (Fri, 21 Feb 2025) EllapsedTime: 65.5 seconds RetCode: 0 Status: OK PackageFile: doubletrouble_1.7.0.zip PackageFileSize: 4.32 MiB