Package: doubletrouble Version: 1.7.0 Command: /home/biocbuild/bbs-3.21-bioc/R/bin/R CMD check --install=check:doubletrouble.install-out.txt --library=/home/biocbuild/bbs-3.21-bioc/R/site-library --timings doubletrouble_1.7.0.tar.gz StartedAt: 2025-02-20 21:41:31 -0500 (Thu, 20 Feb 2025) EndedAt: 2025-02-20 21:47:13 -0500 (Thu, 20 Feb 2025) EllapsedTime: 342.5 seconds RetCode: 0 Status: OK CheckDir: doubletrouble.Rcheck Warnings: 0