Package: doubletrouble Version: 1.7.0 Command: /Library/Frameworks/R.framework/Resources/bin/R CMD INSTALL doubletrouble StartedAt: 2025-02-20 15:19:01 -0500 (Thu, 20 Feb 2025) EndedAt: 2025-02-20 15:19:17 -0500 (Thu, 20 Feb 2025) EllapsedTime: 15.5 seconds RetCode: 0 Status: OK