Package: doseR Version: 1.23.0 Command: E:\biocbuild\bbs-3.21-bioc\R\bin\R.exe CMD INSTALL doseR StartedAt: 2025-02-20 16:43:53 -0500 (Thu, 20 Feb 2025) EndedAt: 2025-02-20 16:44:20 -0500 (Thu, 20 Feb 2025) EllapsedTime: 27.8 seconds RetCode: 0 Status: OK