Package: doseR Version: 1.23.0 Command: /home/biocbuild/R/R/bin/R CMD build --keep-empty-dirs --no-resave-data doseR StartedAt: 2025-01-28 22:34:55 -0000 (Tue, 28 Jan 2025) EndedAt: 2025-01-28 22:35:40 -0000 (Tue, 28 Jan 2025) EllapsedTime: 45.0 seconds RetCode: 0 Status: OK PackageFile: doseR_1.23.0.tar.gz PackageFileSize: 1.053 MiB