Package: doseR Version: 1.23.0 Command: /Library/Frameworks/R.framework/Resources/bin/R CMD INSTALL doseR StartedAt: 2025-02-20 15:14:37 -0500 (Thu, 20 Feb 2025) EndedAt: 2025-02-20 15:14:45 -0500 (Thu, 20 Feb 2025) EllapsedTime: 8.4 seconds RetCode: 0 Status: OK