Package: doppelgangR Version: 1.35.0 Command: rm -rf doppelgangR.buildbin-libdir && mkdir doppelgangR.buildbin-libdir && E:\biocbuild\bbs-3.21-bioc\R\bin\R.exe CMD INSTALL --build --library=doppelgangR.buildbin-libdir doppelgangR_1.35.0.tar.gz StartedAt: 2025-02-19 07:21:51 -0500 (Wed, 19 Feb 2025) EndedAt: 2025-02-19 07:22:50 -0500 (Wed, 19 Feb 2025) EllapsedTime: 59.3 seconds RetCode: 0 Status: OK PackageFile: doppelgangR_1.35.0.zip PackageFileSize: 812.5 KiB