Package: doppelgangR Version: 1.35.0 Command: /home/biocbuild/bbs-3.21-bioc/R/bin/R CMD INSTALL doppelgangR StartedAt: 2025-02-18 15:26:05 -0500 (Tue, 18 Feb 2025) EndedAt: 2025-02-18 15:26:37 -0500 (Tue, 18 Feb 2025) EllapsedTime: 32.0 seconds RetCode: 0 Status: OK